BEGIN:VCALENDAR
VERSION:2.0
PRODID:-//swoogo.com//NONSGML kigkonsult.se iCalcreator 2.41.90//
CALSCALE:GREGORIAN
UID:35616238-6464-4764-b832-316634373466
BEGIN:VEVENT
UID:1ab33ec8085eaf6a496198c9285b69e9645462b3@swoogo.com
DTSTAMP:20260419T211228Z
DESCRIPTION:
DTSTART:20260614T120000Z
DTEND:20260617T000000Z
LAST-MODIFIED:20260419T211228Z
LOCATION:Chicago Marriott Downtown Magnificent Mile\, N Rush St\, Chicago\,
  IL 60611\, United States
SEQUENCE:0
STATUS:CONFIRMED
SUMMARY:Cannabis Capital Conference 2026
TRANSP:OPAQUE
X-ALT-DESC:
BEGIN:VALARM
UID:32313261-6436-4664-a338-653934383566
ACTION:DISPLAY
DESCRIPTION:
TRIGGER:-PT15M
END:VALARM
END:VEVENT
END:VCALENDAR
